BEGIN:VCALENDAR
VERSION:2.0
PRODID:-//Ludwigshafen WOW //NONSGML Events //EN
CALSCALE:GREGORIAN
X-WR-CALNAME:Ludwigshafen WOW
BEGIN:VTIMEZONE
TZID:Europe/Berlin
TZURL:http://tzurl.org/zoneinfo-outlook/Europe/Berlin
X-LIC-LOCATION:Europe/Berlin
BEGIN:STANDARD
TZOFFSETFROM:+0200
TZOFFSETTO:+0100
TZNAME:CET
DTSTART:19701025T030000
RRULE:FREQ=YEARLY;BYMONTH=10;BYDAY=-1SU
END:STANDARD
BEGIN:DAYLIGHT
TZOFFSETFROM:+0100
TZOFFSETTO:+0200
TZNAME:CEST
DTSTART:19700329T020000
RRULE:FREQ=YEARLY;BYMONTH=3;BYDAY=-1SU
END:DAYLIGHT
END:VTIMEZONE
BEGIN:VEVENT
TZID:Europe/Berlin
CREATED:20260409T103659
UID:55999
DTSTART;TZID=Europe/Berlin:20260409T200000
DTEND;TZID=Europe/Berlin:20260409T210000
DTSTAMP:20260423T101731
LOCATION:Kulturzentrum dasHausBahnhofstraße 30\, 67059 Ludwigshafen am Rhein
DESCRIPTION:Konzert und Jam-Session mit Regina Litvinova und GästenJeden Monat präsentieren der Förderverein dasHaus e.V. und die preisgekrönte Jazz-Pianistin Regina Litvinova die Jazz Lights Jam Sessions in Gedenken an ihren Mitbegründer Christian Scheuber. Im April spielt der Schlagzeuger Filippo Bonaccorso im Trio.Immer am zweiten Donnerstag im Monat heißt es Jazz Session im Dôme! Regina Litvinova (Keys) spielt im Duo oder Trio mit wechselnden Gästen - the Finest Jazz in LU! Anschliessend: Jam Session. Quelle & Bild: Kulturzentrum dasHausEine Veranstaltung des Fördevereins dasHaus e.V.Eintrittfrei
SUMMARY:The Christian Scheuber Legacy Jazz Lights Jam Sessions
ORGANIZER:ludwigshafen-wow
URL;VALUE=URI:https://ludwigshafen-wow.de/?p=55999
TRANSP:OPAQUE
BEGIN:VALARM
ACTION:DISPLAY
TRIGGER;TZID=Europe/Berlin:20260409T190000
DESCRIPTION:Reminder for The Christian Scheuber Legacy Jazz Lights Jam Sessions
END:VALARM
END:VEVENT
END:VCALENDAR
