BEGIN:VCALENDAR
VERSION:2.0
PRODID:-//Ludwigshafen WOW //NONSGML Events //EN
CALSCALE:GREGORIAN
X-WR-CALNAME:Ludwigshafen WOW
BEGIN:VTIMEZONE
TZID:Europe/Berlin
TZURL:http://tzurl.org/zoneinfo-outlook/Europe/Berlin
X-LIC-LOCATION:Europe/Berlin
BEGIN:STANDARD
TZOFFSETFROM:+0200
TZOFFSETTO:+0100
TZNAME:CET
DTSTART:19701025T030000
RRULE:FREQ=YEARLY;BYMONTH=10;BYDAY=-1SU
END:STANDARD
BEGIN:DAYLIGHT
TZOFFSETFROM:+0100
TZOFFSETTO:+0200
TZNAME:CEST
DTSTART:19700329T020000
RRULE:FREQ=YEARLY;BYMONTH=3;BYDAY=-1SU
END:DAYLIGHT
END:VTIMEZONE
BEGIN:VEVENT
TZID:Europe/Berlin
CREATED:20260411T105954
UID:56008
DTSTART;TZID=Europe/Berlin:20260411T090000
DTEND;TZID=Europe/Berlin:20260411T100000
DTSTAMP:20260423T090120
LOCATION:Kulturzentrum dasHausBahnhofstraße 30\, 67059 Ludwigshafen am Rhein
DESCRIPTION:Flohmarkt mit offenem Klavier und Leckereien
Der klassische Flohmarkt im Kulturzentrum dasHaus bietet reichlich Platz, um durch allerlei gebrauchte Kostbarkeiten von Privatanbietenden zu stöbern.
Herzstück des klassischen Flohmarkts sind die Flächen für Verkaufsstände in den Räumlichkeiten des Kulturzentrums und auf der großen Terrasse des Vorplatzes. Darüber hinaus gibt es ein offenes Klavier, das alle interessierten Gäste zum spontanen Spielen ihrer Lieblingsstücke einlädt. Gemeinnützige Institutionen aller Art sind eingeladen, ihre Arbeit vorzustellen und an ihrem Verkaufsstand Gelder für die Vereinsarbeit zu erwirtschaften. Im Restaurant ZuHaus Ludwigshafen gibt es während des Marktes leckeres Flohmarkt-Frühstück in verschiedenen Varianten. Quelle & Bild: Kulturzentrum dasHaus
Eine Veranstaltung des Fördevereins dasHaus e.V.
Eintrittfrei
AnmeldungAnbieter*innen wertiger Gebrauchtwaren können sich jeweils ab dem Montag der Woche, in der der Markt stattfindet, ausschließlich unter der Telefonnummer 0621 62 58 28 anmelden. Wer auf dem Anrufbeantworter Name, Rufnummer und die gewünschte Standgröße hinterlässt, hat damit ohne weitere Rückmeldung verbindlich reserviert.
Standgebühr7 Euro pro laufenden Meter
Alle weiteren Termine 20262. Mai, 6. Juni und nach der Sommerpause 5. September, 3. Oktober, 14. November, 5. Dezember
SUMMARY:Der klassische Flohmarkt
ORGANIZER:ludwigshafen-wow
URL;VALUE=URI:https://ludwigshafen-wow.de/?p=56008
TRANSP:OPAQUE
BEGIN:VALARM
ACTION:DISPLAY
TRIGGER;TZID=Europe/Berlin:20260411T080000
DESCRIPTION:Reminder for Der klassische Flohmarkt
END:VALARM
END:VEVENT
END:VCALENDAR
