BEGIN:VCALENDAR
VERSION:2.0
PRODID:-//Ludwigshafen WOW //NONSGML Events //EN
CALSCALE:GREGORIAN
X-WR-CALNAME:Ludwigshafen WOW
BEGIN:VTIMEZONE
TZID:Europe/Berlin
TZURL:http://tzurl.org/zoneinfo-outlook/Europe/Berlin
X-LIC-LOCATION:Europe/Berlin
BEGIN:STANDARD
TZOFFSETFROM:+0200
TZOFFSETTO:+0100
TZNAME:CET
DTSTART:19701025T030000
RRULE:FREQ=YEARLY;BYMONTH=10;BYDAY=-1SU
END:STANDARD
BEGIN:DAYLIGHT
TZOFFSETFROM:+0100
TZOFFSETTO:+0200
TZNAME:CEST
DTSTART:19700329T020000
RRULE:FREQ=YEARLY;BYMONTH=3;BYDAY=-1SU
END:DAYLIGHT
END:VTIMEZONE
BEGIN:VEVENT
TZID:Europe/Berlin
CREATED:20260313T111519
UID:56103
DTSTART;TZID=Europe/Berlin:20260313T200000
DTEND;TZID=Europe/Berlin:20260313T210000
DTSTAMP:20260420T101412
LOCATION:
DESCRIPTION:Turmklang lädt zu einer außergewöhnlichen Veranstaltungsreihe ein.Ein Abend voller treibender Rhythmen, hypnotischer Sounds und einer Community, die den Rave lebt.In entspannter Atmosphäre trifft elektronische Musik auf eine besondere Location in Ludwigshafen – intensiv, verbindend und jenseits des Gewöhnlichen. Immer freitags bis Ende April. Quelle & Bild: TurmrestaurantDJ MOO – alias Sven Moritz – ist ein leidenschaftlicher DJ mit Fokus auf Deep House, Tech House und Progressive House. Mit seinem Gespür für treibende Beats, melodische Elemente und atmosphärische Sounds schafft er energiegeladene Sets, die das Turmrestaurant in unvergessliche Klangwelten versetzt. Foto: DJ MOO  EintrittfreiAnfahrtParkplatz der Eberthalle, Adresse für Ihr Navigationssystem: Erzbergerstraße 83, 67063 Ludwigshafen(Direkt am Turmrestaurant Ludwigshafen im Ebertpark stehen keine Parkplätze zur Verfügung.)Weitere TermineFr. 06.03. – DIDIFr. 20.03. – Sade BassFr. 27.03. – DJ PEACHYYSa. 04.04. – DJ CarmineFr. 10.04. – DIDIKontaktinfo@turm.restaurant | www.turm.restaurant | Tel. 0621 65714720
SUMMARY:Turmklang mit DJ MOO
ORGANIZER:ludwigshafen-wow
URL;VALUE=URI:https://ludwigshafen-wow.de/?p=56103
TRANSP:OPAQUE
BEGIN:VALARM
ACTION:DISPLAY
TRIGGER;TZID=Europe/Berlin:20260313T190000
DESCRIPTION:Reminder for Turmklang mit DJ MOO
END:VALARM
END:VEVENT
END:VCALENDAR
