BEGIN:VCALENDAR
VERSION:2.0
PRODID:-//Ludwigshafen WOW //NONSGML Events //EN
CALSCALE:GREGORIAN
X-WR-CALNAME:Ludwigshafen WOW
BEGIN:VTIMEZONE
TZID:Europe/Berlin
TZURL:http://tzurl.org/zoneinfo-outlook/Europe/Berlin
X-LIC-LOCATION:Europe/Berlin
BEGIN:STANDARD
TZOFFSETFROM:+0200
TZOFFSETTO:+0100
TZNAME:CET
DTSTART:19701025T030000
RRULE:FREQ=YEARLY;BYMONTH=10;BYDAY=-1SU
END:STANDARD
BEGIN:DAYLIGHT
TZOFFSETFROM:+0100
TZOFFSETTO:+0200
TZNAME:CEST
DTSTART:19700329T020000
RRULE:FREQ=YEARLY;BYMONTH=3;BYDAY=-1SU
END:DAYLIGHT
END:VTIMEZONE
BEGIN:VEVENT
TZID:Europe/Berlin
CREATED:20260423T093506
UID:56361
DTSTART;TZID=Europe/Berlin:20260423T113000
DTEND;TZID=Europe/Berlin:20260423T123000
DTSTAMP:20260422T132041
LOCATION:Pfalzbau\, Berliner Str. 30\, 67059 Ludwigshafen am Rhein
DESCRIPTION:Okay, kennst du das, wenn du eine Pflanze hast, und du bist so: „Ich kümmere mich richtig gut um dich, versprochen!“…und dann vergisst du sie. Für drei Wochen. Und plötzlich steht da nur noch ein trauriger, vertrockneter Stängel. Und irgendwie tut’s dir leid – obwohl’s nur ‚ne Pflanze ist. Und genau dieses Gefühl hat jemand in Musik gepackt – kein Scherz. In einem Lied namens „Im Treibhaus“ geht’s um Pflanzen, die sich nicht wohlfühlen. Die sagen: „Hey, hier passt einfach nix.“ Zu wenig Sonne, zu viel Kälte, alle starren dich an, weil du anders bist. Der Komponist Gustav Mahler hat solche Gefühle auch in seiner Musik gezeigt: Das Gefühl, anders zu sein. Nicht dazuzupassen. Oder sich einfach ein bisschen zu viel zu fühlen. Dieses Konzert ist wie ein Soundtrack für genau diese Momente. Wenn du nicht weißt, wohin mit deinen Gedanken. Wenn du dich komisch fühlst, aber nicht allein sein willst. Musik, die dich versteht, auch wenn du selbst nicht so genau weißt, was los ist. Quelle & Bild: Deutsche Staatsphilharmonie Rheinland-PfalzProgrammRichard Wagner Wesendonck Lieder für Sopran und Orchester. Fünf Lieder für eine Frauenstimme auf Gedichte von Mathilde WesendonckGustav Mahler Sinfonie Nr. 4 G-Dur (Fassung 1911)MitwirkendeMichael Francis, ChefdirigentJudith Spießer, SopranHeike Schuhmacher, ModerationWeitere InfosDauer: ca. 2 Stunden, inkl. 1 Pause  ZU DEN TICKETS 
SUMMARY:Öffentliche Generalprobe
ORGANIZER:ludwigshafen-wow
URL;VALUE=URI:https://ludwigshafen-wow.de/oeffentliche-generalprobe-4/
TRANSP:OPAQUE
BEGIN:VALARM
ACTION:DISPLAY
TRIGGER;TZID=Europe/Berlin:20260423T103000
DESCRIPTION:Reminder for Öffentliche Generalprobe
END:VALARM
END:VEVENT
END:VCALENDAR
