BEGIN:VCALENDAR
VERSION:2.0
PRODID:-//Ludwigshafen WOW //NONSGML Events //EN
CALSCALE:GREGORIAN
X-WR-CALNAME:Ludwigshafen WOW
BEGIN:VTIMEZONE
TZID:Europe/Berlin
TZURL:http://tzurl.org/zoneinfo-outlook/Europe/Berlin
X-LIC-LOCATION:Europe/Berlin
BEGIN:STANDARD
TZOFFSETFROM:+0200
TZOFFSETTO:+0100
TZNAME:CET
DTSTART:19701025T030000
RRULE:FREQ=YEARLY;BYMONTH=10;BYDAY=-1SU
END:STANDARD
BEGIN:DAYLIGHT
TZOFFSETFROM:+0100
TZOFFSETTO:+0200
TZNAME:CEST
DTSTART:19700329T020000
RRULE:FREQ=YEARLY;BYMONTH=3;BYDAY=-1SU
END:DAYLIGHT
END:VTIMEZONE
BEGIN:VEVENT
TZID:Europe/Berlin
CREATED:20260423T100449
UID:56380
DTSTART;TZID=Europe/Berlin:20260423T193000
DTEND;TZID=Europe/Berlin:20260423T203000
DTSTAMP:20260423T132747
LOCATION:Pfalzbau\, Berliner Str. 30\, 67059 Ludwigshafen am Rhein
DESCRIPTION:Himmel - Alles voller Geigen?Vielleicht haben Sie keinen grünen Daumen und Gartenkunst ist Ihnen egal, aber womöglich kennen Sie trotzdem das seltsame Gefühl, wenn eine Zimmerpflanze eingeht? Empathie, vielleicht sogar Schuldgefühle kommen auf. Und dann fragen Sie sich, seit wann dieses Photosynthese-Gestrüpp eigentlich in Ihrem Herz wohnt – mietfrei!(Sehr) vereinfacht gesprochen, fasst diese emotionale Verfassung genau die Gemengelage der Kompositionen zusammen. „Im Treibhaus“, eins der Wesendonck-­Lieder, erzählt die Geschichte von exotischen Pflanzen, die sich fremd fühlen und dem hiesigen Klima nicht gewachsen sind. Ein philosophisches Gleichnis für das Fremd­sein in der Welt, welches auch Mahler kannte. Quelle & Bild: Deutsche Staatsphilharmonie Rheinland-PfalzProgrammRichard Wagner Wesendonck Lieder für Sopran und Orchester. Fünf Lieder für eine Frauenstimme auf Gedichte von Mathilde WesendonckGustav Mahler Sinfonie Nr. 4 G-Dur (Fassung 1911)MitwirkendeMichael Francis, ChefdirigentJudith Spießer, Sopran  ZU DEN TICKETS 
SUMMARY:Himmel
ORGANIZER:ludwigshafen-wow
URL;VALUE=URI:https://ludwigshafen-wow.de/himmel/
TRANSP:OPAQUE
BEGIN:VALARM
ACTION:DISPLAY
TRIGGER;TZID=Europe/Berlin:20260423T183000
DESCRIPTION:Reminder for Himmel
END:VALARM
END:VEVENT
END:VCALENDAR
