BEGIN:VCALENDAR
VERSION:2.0
PRODID:-//Ludwigshafen WOW //NONSGML Events //EN
CALSCALE:GREGORIAN
X-WR-CALNAME:Ludwigshafen WOW
BEGIN:VTIMEZONE
TZID:Europe/Berlin
TZURL:http://tzurl.org/zoneinfo-outlook/Europe/Berlin
X-LIC-LOCATION:Europe/Berlin
BEGIN:STANDARD
TZOFFSETFROM:+0200
TZOFFSETTO:+0100
TZNAME:CET
DTSTART:19701025T030000
RRULE:FREQ=YEARLY;BYMONTH=10;BYDAY=-1SU
END:STANDARD
BEGIN:DAYLIGHT
TZOFFSETFROM:+0100
TZOFFSETTO:+0200
TZNAME:CEST
DTSTART:19700329T020000
RRULE:FREQ=YEARLY;BYMONTH=3;BYDAY=-1SU
END:DAYLIGHT
END:VTIMEZONE
BEGIN:VEVENT
TZID:Europe/Berlin
CREATED:20260421T081624
UID:56816
DTSTART;TZID=Europe/Berlin:20260421T193000
DTEND;TZID=Europe/Berlin:20260421T203000
DTSTAMP:20260420T122359
LOCATION:Freischwimmer\, Pettenkoferstraße 9\, 67063 Ludwigshafen am Rhein
DESCRIPTION:Die Konzertserie „Olaf Schönborn & friends“ im FREISCHWIMMER im ehemaligen Hallenbad Nord in Ludwigshafen startet im März bereits in die 4. Saison.Einmal im Monat, immer dienstags, präsentiert der Saxophonist jeweils ganz unterschiedliche Formationen, meist speziell für diesen Abend zusammengestellt mit viel Spontaneität und Überraschungen.Weiter gehts am 21.04. mit einem wunderbaren Musiker, mit dem ich schon lange mal wieder spielen wollte: Mundharmonika-Virtuose Jens Bunge.Als ich vor 30 Jahren nach Mannheim kam spielten wir öfters auf Sessions zusammen und schon damals war ich von seinem Feeling und Können beeindruckt. Ein weiterer extrem geschmackvoller Könner ist der italienische Gitarrist Lorenzo Petrocca. Komplettiert wird unser Quartett vom viel gefragten Tübinger Bassisten Axel Kühn, mit dem ich hier zum ersten Mal zusammenspielen darf.Ein großer Dank an den Förderverein Kultur im Freischwimmer e.V., der diese Reihe ermöglicht!Weitere InfosEinlass ab 18:30 Uhr  ZU DEN TICKETS 
SUMMARY:Olaf Schönborn & Friends. Bunge Kühn Petrocca
ORGANIZER:ludwigshafen-wow
URL;VALUE=URI:https://ludwigshafen-wow.de/olaf-schoenborn-friends-bunge-kuehn-petrocca/
TRANSP:OPAQUE
BEGIN:VALARM
ACTION:DISPLAY
TRIGGER;TZID=Europe/Berlin:20260421T183000
DESCRIPTION:Reminder for Olaf Schönborn &amp\; Friends. Bunge Kühn Petrocca
END:VALARM
END:VEVENT
END:VCALENDAR
