BEGIN:VCALENDAR
VERSION:2.0
PRODID:-//Ludwigshafen WOW //NONSGML Events //EN
CALSCALE:GREGORIAN
X-WR-CALNAME:Ludwigshafen WOW
BEGIN:VTIMEZONE
TZID:Europe/Berlin
TZURL:http://tzurl.org/zoneinfo-outlook/Europe/Berlin
X-LIC-LOCATION:Europe/Berlin
BEGIN:STANDARD
TZOFFSETFROM:+0200
TZOFFSETTO:+0100
TZNAME:CET
DTSTART:19701025T030000
RRULE:FREQ=YEARLY;BYMONTH=10;BYDAY=-1SU
END:STANDARD
BEGIN:DAYLIGHT
TZOFFSETFROM:+0100
TZOFFSETTO:+0200
TZNAME:CEST
DTSTART:19700329T020000
RRULE:FREQ=YEARLY;BYMONTH=3;BYDAY=-1SU
END:DAYLIGHT
END:VTIMEZONE
BEGIN:VEVENT
TZID:Europe/Berlin
CREATED:20260314T133245
UID:56863
DTSTART;TZID=Europe/Berlin:20260314T140000
DTEND;TZID=Europe/Berlin:20260314T150000
DTSTAMP:20260420T100643
LOCATION:Volkshochschule LudwigshafenBürgerhof\, 67059 Ludwigshafen
DESCRIPTION:Am Samstag, 14.03.26 von 14.00 bis 20.00 Uhr darf im großen Saal der Volkshochschule im Bürgerhof nach Herzenslust gespielt werden.Der Eintritt ist frei und es gibt kostenlos vielfältige Brettspiele für jedes Alter und Interesse zu leihen. Auf Wunsch wird jedes Spiel ausführlich erklärt und wer alleine kommt, dem hilft das Team von „Vorderpfalz spielt“ schnell Spielpartner zu finden. In einem extra Raum gibt es außerdem Bewegungsspiele für Familien mit kleineren Kindern.Für kostengünstige Snacks und Getränke ist gleichfalls gesorgt.EintrittfreiWeitere InfosAnmeldung nicht erforderlich.KontaktInfos und Fragen an Tel. 0621/504-2238 oder info@vhs-lu.de.
SUMMARY:Lu-City spielt!
ORGANIZER:ludwigshafen-wow
URL;VALUE=URI:https://ludwigshafen-wow.de/?p=56863
TRANSP:OPAQUE
BEGIN:VALARM
ACTION:DISPLAY
TRIGGER;TZID=Europe/Berlin:20260314T130000
DESCRIPTION:Reminder for Lu-City spielt!
END:VALARM
END:VEVENT
END:VCALENDAR
