BEGIN:VCALENDAR
VERSION:2.0
PRODID:-//Ludwigshafen WOW //NONSGML Events //EN
CALSCALE:GREGORIAN
X-WR-CALNAME:Ludwigshafen WOW
BEGIN:VTIMEZONE
TZID:Europe/Berlin
TZURL:http://tzurl.org/zoneinfo-outlook/Europe/Berlin
X-LIC-LOCATION:Europe/Berlin
BEGIN:STANDARD
TZOFFSETFROM:+0200
TZOFFSETTO:+0100
TZNAME:CET
DTSTART:19701025T030000
RRULE:FREQ=YEARLY;BYMONTH=10;BYDAY=-1SU
END:STANDARD
BEGIN:DAYLIGHT
TZOFFSETFROM:+0100
TZOFFSETTO:+0200
TZNAME:CEST
DTSTART:19700329T020000
RRULE:FREQ=YEARLY;BYMONTH=3;BYDAY=-1SU
END:DAYLIGHT
END:VTIMEZONE
BEGIN:VEVENT
TZID:Europe/Berlin
CREATED:20260314T082819
UID:56875
DTSTART;TZID=Europe/Berlin:20260314T110000
DTEND;TZID=Europe/Berlin:20260314T120000
DTSTAMP:20260420T102134
LOCATION:
DESCRIPTION:Die Veranstaltung richtet sich an ein trendiges, begeistertes Publikum aus den Bereichen Malay. nga, Anime, Comic und CospBesucher dürfen sich auf ein abwechslungsreiches Erlebnis freuen: Von vielfältigen Händlern sowie Manga-, Comic- und Merchandise-Bereichen über eine sehr große Artist Alley und einen Photo-Point für Cosplayer*innen bis hin zu einer Just Dance Area und einem Karaoke Event ist für jeden etwas dabei. Als besonderes Highlight erwartet die Gäste zudem ein großes „Big Picture"-Event, verschiedene Workshops sowie eine brandneue Sammelkarten-TCG-Area. Quelle: LUKOM mbH, Bild: Stephanie Azzouzi / NijiEintritt9€ / Kinder bis 10 J. freiVeranstalterBD Events
SUMMARY:Comic und Manga Convention
ORGANIZER:ludwigshafen-wow
URL;VALUE=URI:https://ludwigshafen-wow.de/?p=56875
TRANSP:OPAQUE
BEGIN:VALARM
ACTION:DISPLAY
TRIGGER;TZID=Europe/Berlin:20260314T100000
DESCRIPTION:Reminder for Comic und Manga Convention
END:VALARM
END:VEVENT
END:VCALENDAR
