BEGIN:VCALENDAR
VERSION:2.0
PRODID:-//Ludwigshafen WOW //NONSGML Events //EN
CALSCALE:GREGORIAN
X-WR-CALNAME:Ludwigshafen WOW
BEGIN:VTIMEZONE
TZID:Europe/Berlin
TZURL:http://tzurl.org/zoneinfo-outlook/Europe/Berlin
X-LIC-LOCATION:Europe/Berlin
BEGIN:STANDARD
TZOFFSETFROM:+0200
TZOFFSETTO:+0100
TZNAME:CET
DTSTART:19701025T030000
RRULE:FREQ=YEARLY;BYMONTH=10;BYDAY=-1SU
END:STANDARD
BEGIN:DAYLIGHT
TZOFFSETFROM:+0100
TZOFFSETTO:+0200
TZNAME:CEST
DTSTART:19700329T020000
RRULE:FREQ=YEARLY;BYMONTH=3;BYDAY=-1SU
END:DAYLIGHT
END:VTIMEZONE
BEGIN:VEVENT
TZID:Europe/Berlin
CREATED:20260510T135341
UID:57103
DTSTART;TZID=Europe/Berlin:20260510T150000
DTEND;TZID=Europe/Berlin:20260510T160000
DTSTAMP:20260420T125728
LOCATION:BASF-Feierabendhaus\, Leuschnerstraße 47\, 67063 Ludwigshafen am Rhein
DESCRIPTION: mini.musik – Große Musik für kleine MenschenDie beiden Geschwister Trixi und Max sind gerne gemeinsam in der Natur unterwegs. Am liebsten am Birkenweiher, wo man so schön baden und plantschen kann. Als sie sich wieder einmal auf den Weg dorthin machen, ist aber plötzlich alles anders als sonst. Der Stadtbrunnen hat kein Wasser mehr, die Eisdiele ist geschlossen und die Sonne brennt so sehr vom Himmel, dass es kaum auszuhalten ist.Die schlaue Trixi weiß, wieso: Der Klimawandel ist schuld! Aber was genau bedeutet das eigentlich? Als der Birkenwald am Weiher zu brennen beginnt, erfahren das Trixi und Max hautnah. Jetzt gibt es nur noch eines: Helfen! Ein Wettlauf mit der Zeit beginnt. Quelle: BASF Feierabendhaus, Bild: Felix FrancerEintritt10€ / geeignet für Kinder zwischen 3 und 5 Jahren  ZU DEN TICKETS 
SUMMARY:„Die Baumretter – Abenteuer am Birkenweiher“. Familienkonzert
ORGANIZER:ludwigshafen-wow
URL;VALUE=URI:https://ludwigshafen-wow.de/die-baumretter-abenteuer-am-birkenweiher-familienkonzert/
TRANSP:OPAQUE
BEGIN:VALARM
ACTION:DISPLAY
TRIGGER;TZID=Europe/Berlin:20260510T140000
DESCRIPTION:Reminder for &#8222\;Die Baumretter – Abenteuer am Birkenweiher&#8220\;. Familienkonzert
END:VALARM
END:VEVENT
END:VCALENDAR
