BEGIN:VCALENDAR
VERSION:2.0
PRODID:-//Ludwigshafen WOW //NONSGML Events //EN
CALSCALE:GREGORIAN
X-WR-CALNAME:Ludwigshafen WOW
BEGIN:VTIMEZONE
TZID:Europe/Berlin
TZURL:http://tzurl.org/zoneinfo-outlook/Europe/Berlin
X-LIC-LOCATION:Europe/Berlin
BEGIN:STANDARD
TZOFFSETFROM:+0200
TZOFFSETTO:+0100
TZNAME:CET
DTSTART:19701025T030000
RRULE:FREQ=YEARLY;BYMONTH=10;BYDAY=-1SU
END:STANDARD
BEGIN:DAYLIGHT
TZOFFSETFROM:+0100
TZOFFSETTO:+0200
TZNAME:CEST
DTSTART:19700329T020000
RRULE:FREQ=YEARLY;BYMONTH=3;BYDAY=-1SU
END:DAYLIGHT
END:VTIMEZONE
BEGIN:VEVENT
TZID:Europe/Berlin
CREATED:20260614T141920
UID:57133
DTSTART;TZID=Europe/Berlin:20260614T200000
DTEND;TZID=Europe/Berlin:20260614T210000
DTSTAMP:20260420T123727
LOCATION:BASF-Feierabendhaus\, Leuschnerstraße 47\, 67063 Ludwigshafen am Rhein
DESCRIPTION:Egal, ob er seinen Latin-Rock spielt, poppiges, souliges, bluesiges oder jazziges.Eines hat man der Musik von Gitarren-Legende Carlos Santana und seinem unverwechselbaren Sound im Lauf seiner über 50jährigen Karriere immer nachgesagt – daß sie magisch ist!Seit mehr als 13 Jahren bringt der Hamburger Santana-Fan und Gitarrist die Musik seines Idols auf internationale Bühnen. THE MAGIC OF SANTANA werden verstärkt durch den legendären SANTANA-Sänger und 11-fachen Grammy-Gewinner Tony Lindsay (1995 bis 2015 in der Band von Carlos Santana).Nach Auftritten in ganz Europa gilt THE MAGIC OF SANTANA als beste Santana-Band in diesem Genre! Mit sieben professionellen Musikern, die alle die Leidenschaft für diese energiegeladene Musik verbindet, und Original-Mitgliedern von SANTANA spielen sie sich bei ihren pulsierenden Shows quer durch das einzigartige Repertoire des mexikanischen Gitarristen.Eintrittab 30€  ZU DEN TICKETS 
SUMMARY:The Magic of Santana
ORGANIZER:ludwigshafen-wow
URL;VALUE=URI:https://ludwigshafen-wow.de/the-magic-of-santana-2/
TRANSP:OPAQUE
BEGIN:VALARM
ACTION:DISPLAY
TRIGGER;TZID=Europe/Berlin:20260614T190000
DESCRIPTION:Reminder for The Magic of Santana
END:VALARM
END:VEVENT
END:VCALENDAR
