BEGIN:VCALENDAR
VERSION:2.0
PRODID:-//Ludwigshafen WOW //NONSGML Events //EN
CALSCALE:GREGORIAN
X-WR-CALNAME:Ludwigshafen WOW
BEGIN:VTIMEZONE
TZID:Europe/Berlin
TZURL:http://tzurl.org/zoneinfo-outlook/Europe/Berlin
X-LIC-LOCATION:Europe/Berlin
BEGIN:STANDARD
TZOFFSETFROM:+0200
TZOFFSETTO:+0100
TZNAME:CET
DTSTART:19701025T030000
RRULE:FREQ=YEARLY;BYMONTH=10;BYDAY=-1SU
END:STANDARD
BEGIN:DAYLIGHT
TZOFFSETFROM:+0100
TZOFFSETTO:+0200
TZNAME:CEST
DTSTART:19700329T020000
RRULE:FREQ=YEARLY;BYMONTH=3;BYDAY=-1SU
END:DAYLIGHT
END:VTIMEZONE
BEGIN:VEVENT
TZID:Europe/Berlin
CREATED:20260419T092406
UID:57171
DTSTART;TZID=Europe/Berlin:20260419T110000
DTEND;TZID=Europe/Berlin:20260419T120000
DTSTAMP:20260420T123754
LOCATION:Wilhelm-Hack-MuseumBerliner Str. 23\, 67059 Ludwigshafen am Rhein
DESCRIPTION:Kunstangebot für Menschen mit Demenz und ihre AngehörigenMenschen mit Demenz und ihre Angehörigen haben die Möglichkeit, im Museumsatelier gemeinsam künstlerisch aktiv zu werden und dabei neue Ausdrucksformen zu entdecken. Unter fachkundiger Anleitung mit Methoden der Kunst- und Gestaltungstherapie durch Heike Hambsch (Counselor grad BVPPT) können verschiedene Techniken und Materialien ausprobiert werden, die die Kommunikation auf kreative Weise unterstützen und eine Möglichkeit darstellen, Emotionen auszudrücken. Quelle: Wilhelm-Hack-Museum, Bild: Pixabay.Leitung, Heike Hambsch (Counselor grad BVPPT)EintrittfreiAnmeldung per E-Mail an: anmeldung.whm@ludwigshafen.de
SUMMARY:Gemeinsam kreativ. Kunstangebot für Menschen mit Demenz und ihre Angehörigen
ORGANIZER:ludwigshafen-wow
URL;VALUE=URI:https://ludwigshafen-wow.de/gemeinsam-kreativ-kunstangebot-fuer-menschen-mit-demenz-und-ihre-angehoerigen-14/
TRANSP:OPAQUE
BEGIN:VALARM
ACTION:DISPLAY
TRIGGER;TZID=Europe/Berlin:20260419T100000
DESCRIPTION:Reminder for Gemeinsam kreativ. Kunstangebot für Menschen mit Demenz und ihre Angehörigen
END:VALARM
END:VEVENT
END:VCALENDAR
