BEGIN:VCALENDAR
VERSION:2.0
PRODID:-//Ludwigshafen WOW //NONSGML Events //EN
CALSCALE:GREGORIAN
X-WR-CALNAME:Ludwigshafen WOW
BEGIN:VTIMEZONE
TZID:Europe/Berlin
TZURL:http://tzurl.org/zoneinfo-outlook/Europe/Berlin
X-LIC-LOCATION:Europe/Berlin
BEGIN:STANDARD
TZOFFSETFROM:+0200
TZOFFSETTO:+0100
TZNAME:CET
DTSTART:19701025T030000
RRULE:FREQ=YEARLY;BYMONTH=10;BYDAY=-1SU
END:STANDARD
BEGIN:DAYLIGHT
TZOFFSETFROM:+0100
TZOFFSETTO:+0200
TZNAME:CEST
DTSTART:19700329T020000
RRULE:FREQ=YEARLY;BYMONTH=3;BYDAY=-1SU
END:DAYLIGHT
END:VTIMEZONE
BEGIN:VEVENT
TZID:Europe/Berlin
CREATED:20260419T092728
UID:57173
DTSTART;TZID=Europe/Berlin:20260419T110000
DTEND;TZID=Europe/Berlin:20260419T120000
DTSTAMP:20260420T122344
LOCATION:Wilhelm-Hack-MuseumBerliner Str. 23\, 67059 Ludwigshafen am Rhein
DESCRIPTION:Musikalische Führung durch die Sammlungspräsentation “Vom Klang der Bilder”mit Kuratorin Julia Nebenführ und Dozent*innen sowie Schüler*innen der Städtischen Musikschule Ludwigshafen. Dabei werden die ausgestellten Werke und die verschiedenen Ausstellungsräume und Kapitel musikalisch untermalt. Quelle: Wilhelm-Hack-Museum, Bild: Unsplash.Eintritt5 Euro zzgl. MuseumseintrittAnmeldung per E-Mail an: anmeldung.whm@ludwigshafen.de
SUMMARY:Musikalische Führung. Bild – Wort – Klang
ORGANIZER:ludwigshafen-wow
URL;VALUE=URI:https://ludwigshafen-wow.de/musikalische-fuehrung-bild-wort-klang/
TRANSP:OPAQUE
BEGIN:VALARM
ACTION:DISPLAY
TRIGGER;TZID=Europe/Berlin:20260419T100000
DESCRIPTION:Reminder for Musikalische Führung. Bild &#8211\; Wort &#8211\; Klang
END:VALARM
END:VEVENT
END:VCALENDAR
