BEGIN:VCALENDAR
VERSION:2.0
PRODID:-//Ludwigshafen WOW //NONSGML Events //EN
CALSCALE:GREGORIAN
X-WR-CALNAME:Ludwigshafen WOW
BEGIN:VTIMEZONE
TZID:Europe/Berlin
TZURL:http://tzurl.org/zoneinfo-outlook/Europe/Berlin
X-LIC-LOCATION:Europe/Berlin
BEGIN:STANDARD
TZOFFSETFROM:+0200
TZOFFSETTO:+0100
TZNAME:CET
DTSTART:19701025T030000
RRULE:FREQ=YEARLY;BYMONTH=10;BYDAY=-1SU
END:STANDARD
BEGIN:DAYLIGHT
TZOFFSETFROM:+0100
TZOFFSETTO:+0200
TZNAME:CEST
DTSTART:19700329T020000
RRULE:FREQ=YEARLY;BYMONTH=3;BYDAY=-1SU
END:DAYLIGHT
END:VTIMEZONE
BEGIN:VEVENT
TZID:Europe/Berlin
CREATED:20260425T095524
UID:57181
DTSTART;TZID=Europe/Berlin:20260425T140000
DTEND;TZID=Europe/Berlin:20260425T150000
DTSTAMP:20260424T102344
LOCATION:Wilhelm-Hack-MuseumBerliner Str. 23\, 67059 Ludwigshafen am Rhein
DESCRIPTION:Das Offene Atelier öffnet jeden Samstag seine Türen für Kinder zwischen sechs und zwölf Jahren.Im bunten Kunstlabor kann gemalt, gezeichnet, gedruckt, gestempelt, geklebt, gewerkelt und entdeckt werden – experimentieren ist ausdrücklich erwünscht! Unsere Kunstvermittler*innen bringen jede Woche überraschende Ideen mit und unterstützen Euch bei Euren Vorhaben. Quelle & Bild: Wilhelm Hack MuseumEintrittKosten pro Person 3€Weitere InfosAlter 6 - 12 Jahremax. 15 Teilnehmer*innenAnmeldungper E-Mail an: anmeldung.whm@ludwigshafen.de
SUMMARY:Offenes Atelier
ORGANIZER:ludwigshafen-wow
URL;VALUE=URI:https://ludwigshafen-wow.de/offenes-atelier-128/
TRANSP:OPAQUE
BEGIN:VALARM
ACTION:DISPLAY
TRIGGER;TZID=Europe/Berlin:20260425T130000
DESCRIPTION:Reminder for Offenes Atelier
END:VALARM
END:VEVENT
END:VCALENDAR
