BEGIN:VCALENDAR
VERSION:2.0
PRODID:-//Ludwigshafen WOW //NONSGML Events //EN
CALSCALE:GREGORIAN
X-WR-CALNAME:Ludwigshafen WOW
BEGIN:VTIMEZONE
TZID:Europe/Berlin
TZURL:http://tzurl.org/zoneinfo-outlook/Europe/Berlin
X-LIC-LOCATION:Europe/Berlin
BEGIN:STANDARD
TZOFFSETFROM:+0200
TZOFFSETTO:+0100
TZNAME:CET
DTSTART:19701025T030000
RRULE:FREQ=YEARLY;BYMONTH=10;BYDAY=-1SU
END:STANDARD
BEGIN:DAYLIGHT
TZOFFSETFROM:+0100
TZOFFSETTO:+0200
TZNAME:CEST
DTSTART:19700329T020000
RRULE:FREQ=YEARLY;BYMONTH=3;BYDAY=-1SU
END:DAYLIGHT
END:VTIMEZONE
BEGIN:VEVENT
TZID:Europe/Berlin
CREATED:20260425T104044
UID:57204
DTSTART;TZID=Europe/Berlin:20260425T170000
DTEND;TZID=Europe/Berlin:20260425T180000
DTSTAMP:20260422T115448
LOCATION:Wilhelm-Hack-MuseumBerliner Str. 23\, 67059 Ludwigshafen am Rhein
DESCRIPTION:Raymond Pettibon. Nervous Breakdown Albumcover aus der Sammlung Stefan Thull
Wir laden Sie, Ihre Familie und Freunde herzlich ein zur Eröffnung des Kabinettstücks: Raymond Pettibon. Nervous Breakdown - Albumcovers der Sammlung Stefan Thull
ProgrammDen Abend eröffnen René Zechlin, Direktor des Wilhelm-Hack-Museums, sowie Prof. Dr. Klaus Blettner, Oberbürgermeister der Stadt Ludwigshafen am Rhein, mit persönlichen Grußworten.
Kuratorin Dr. Astrid Ihle führt anschließend in die Ausstellung ein und gibt Einblicke in die Ideen und Zusammenhänge, die ihrer kuratorischen Arbeit zugrunde liegen.
Im Gespräch begegnen sich Max Dax, Robert Eikmeyer und Ulrich Loock – drei Positionen, die das Thema aus unterschiedlichen Perspektiven beleuchten und zur Diskussion einladen. Moderiert wird die Runde von René Zechlin. Musikalisch begleitet Timo von Anker den Abend. Quelle & Bild: Wilhelm Hack Museum
Eintrittfrei 


SUMMARY:Vernissage. Raymond Pettibon. Nervous Breakdown – Albumcovers
ORGANIZER:ludwigshafen-wow
URL;VALUE=URI:https://ludwigshafen-wow.de/vernissage-raymond-pettibon-nervous-breakdown-albumcovers/
TRANSP:OPAQUE
BEGIN:VALARM
ACTION:DISPLAY
TRIGGER;TZID=Europe/Berlin:20260425T160000
DESCRIPTION:Reminder for Vernissage. Raymond Pettibon. Nervous Breakdown – Albumcovers
END:VALARM
END:VEVENT
END:VCALENDAR
