BEGIN:VCALENDAR
VERSION:2.0
PRODID:-//Ludwigshafen WOW //NONSGML Events //EN
CALSCALE:GREGORIAN
X-WR-CALNAME:Ludwigshafen WOW
BEGIN:VTIMEZONE
TZID:Europe/Berlin
TZURL:http://tzurl.org/zoneinfo-outlook/Europe/Berlin
X-LIC-LOCATION:Europe/Berlin
BEGIN:STANDARD
TZOFFSETFROM:+0200
TZOFFSETTO:+0100
TZNAME:CET
DTSTART:19701025T030000
RRULE:FREQ=YEARLY;BYMONTH=10;BYDAY=-1SU
END:STANDARD
BEGIN:DAYLIGHT
TZOFFSETFROM:+0100
TZOFFSETTO:+0200
TZNAME:CEST
DTSTART:19700329T020000
RRULE:FREQ=YEARLY;BYMONTH=3;BYDAY=-1SU
END:DAYLIGHT
END:VTIMEZONE
BEGIN:VEVENT
TZID:Europe/Berlin
CREATED:20260426T110919
UID:57210
DTSTART;TZID=Europe/Berlin:20260426T110000
DTEND;TZID=Europe/Berlin:20260426T120000
DTSTAMP:20260422T114739
LOCATION:Wilhelm-Hack-MuseumBerliner Str. 23\, 67059 Ludwigshafen am Rhein
DESCRIPTION:Die Pfälzische Musikgesellschaft lädt regelmäßig zu Sonntagsmatineen im Wilhelm-Hack-Museum ein.Die Preisträger-innen werden begleitet von der Kammerphilharmonie Mannheim.Leitung: Studierende der Hochschule für Kirchenmusik Heidelberg (Klasse Prof. Michiya Azumi) – in Kooperation mit der Hochschule für Kirchenmusik Heidelberg.PreistägerBereits mit 7 Jahren entdeckte Paul Roman Horn seine Liebe zum Kontrabass. Unterrichtet von Etsuko Kawashita, Kontrabassistin am Pfalztheater, nahm er mehrfach an Jugend musiziert teil und war mehrfacher Bundespreisträger. Schon früh übte er sich im Ensemblespiel, sei es im Duo mit seiner Schwester als auch bei verschiedenen Orchesterprojekten. Er spielte im Landesjugendorchester Rheinland-Pfalz, im Saarländischen Landesjugendorchester, im Orchester der RPTU Kaiserslautern und im saarländischen Landesjugendzupforchester.Lea Schweizer wurde 2011 in Karlsruhe geboren und wohnt in Berghausen (Pfalz). Seit dem Alter von 5 Jahren erhielt sie vielfältigen Musikunterricht, überwiegend an der Musikschule der Stadt Speyer.Seit 2016 nimmt sie Klavierunterricht, den sie in den ersten Jahre von Frau Hedi Lieberich – Scherpf, danach von Frau Elena Schneider und seit September 2024 von Frau Katharina Vollhardt-Dyck erhält. Mit diesem Intsrument hat sie bereits mehrere erste Regional- und Landespreise beim Musikwettbewerb Jugend Musiziert gewonnen.Judith Schweizer wurde 2008 in Karlsruhe geboren und wohnt derzeit in der Nähe von Speyer, wo sie 2026 auch das Abitur am Gymnasium am Kaiserdom machen wird. Seit ihrem 6. Lebensjahr nimmt sie Geigenunterricht bei Frau Irmgard Brückom, Herrn Dinu Hartwich und Herrn Felix Wulfert. Seit 2024 wird sie von Frau Prof. Olga Nodel an der Lucie-Kölsch-Musikschule der Stadt Worms unterrichtet. Außerdem erhält sie seit 2023 Klavierunterricht von Frau Katharina Vollhardt-Dyck. Seit 2019 nimmt Judith Schweizer regelmäßig an dem Wettbewerb "Jugend Musiziert" teil und erzielte immer gute Landes- und Bundespreise.Pia Buch wurde 2007 in Speyer geboren und schreibt im März 2026 am Theodor-Heuss-Gymnasiums Ludwigshafen ihr Abitur. Sie begann im Alter von sechs Jahren mit dem Bratschenunterricht bei Frau Hiltrud Wies an der Musikschule Rhein-Pfalz-Kreis und wird seit 2025 von Herrn Johannes Pardall unterrichtet. Pia ist mehrfache Preisträgerin des Wettbewerbs Jugend Musiziert auf Bundesebene, des Karel Kunc Wettbewerbs in Bad Dürkheim und dem des Rotary Clubs. Quelle: Wilhelm Hack Museum, Bild: Alexander PopadinWeitere Informationen bei Pfälzische Musikgesellschaft e.VProgrammJohann Sebastian Bach: Konzert für Oboe und Violine BWV 1060 (Fassung in c-Moll)Serge Koussevitzky Konzert für Kontrabass op. 3 fis-Moll (bearbeitete Fassung für Streichorchester)Paul Hindemith „Trauermusik“Das aktuelle Programm zum DownloadEintrittFür die Umbauzeiten der Wechselausstellung betragen die Eintrittspreise wie folgt: Eintritt regulär: 7,00 EUR, Eintritt ermäßigt: 5,00 EUR
SUMMARY:Sonntagsmatinee. Bruno-Herrmann-Preisträgerkonzert
ORGANIZER:ludwigshafen-wow
URL;VALUE=URI:https://ludwigshafen-wow.de/sonntagsmatinee-bruno-herrmann-preistraegerkonzert/
TRANSP:OPAQUE
BEGIN:VALARM
ACTION:DISPLAY
TRIGGER;TZID=Europe/Berlin:20260426T100000
DESCRIPTION:Reminder for Sonntagsmatinee. Bruno-Herrmann-Preisträgerkonzert
END:VALARM
END:VEVENT
END:VCALENDAR
