BEGIN:VCALENDAR
VERSION:2.0
PRODID:-//Ludwigshafen WOW //NONSGML Events //EN
CALSCALE:GREGORIAN
X-WR-CALNAME:Ludwigshafen WOW
BEGIN:VTIMEZONE
TZID:Europe/Berlin
TZURL:http://tzurl.org/zoneinfo-outlook/Europe/Berlin
X-LIC-LOCATION:Europe/Berlin
BEGIN:STANDARD
TZOFFSETFROM:+0200
TZOFFSETTO:+0100
TZNAME:CET
DTSTART:19701025T030000
RRULE:FREQ=YEARLY;BYMONTH=10;BYDAY=-1SU
END:STANDARD
BEGIN:DAYLIGHT
TZOFFSETFROM:+0100
TZOFFSETTO:+0200
TZNAME:CEST
DTSTART:19700329T020000
RRULE:FREQ=YEARLY;BYMONTH=3;BYDAY=-1SU
END:DAYLIGHT
END:VTIMEZONE
BEGIN:VEVENT
TZID:Europe/Berlin
CREATED:20260426T113851
UID:57215
DTSTART;TZID=Europe/Berlin:20260426T160000
DTEND;TZID=Europe/Berlin:20260426T170000
DTSTAMP:20260422T115656
LOCATION:
DESCRIPTION:Finissage der Ausstellung von Valentina Jaffé. Dripping Folds and Melting StatesDie darstellende Künstlerin Vivian Schöchlin und die bildende Künstlerin Valentina Jaffé erkunden gemeinsam die Beziehung zwischen Körper, Kunstwerk und Betrachtenden.Die Performance bildet den Abschluss der Ausstellung Dripping Folds and Melting States und tritt in indirekten Dialog mit den gezeigten Arbeiten. Sie öffnet den Raum, schafft Begegnungen und formt unerwartete, spannungsreiche Körperlandschaften aus Menschen, Bildern und Architektur. Quelle & Bild: Wilhelm Hack MuseumEintrittfrei
SUMMARY:Valentina Jaffé. Finissage mit Performance von Vivian Schöchlin
ORGANIZER:ludwigshafen-wow
URL;VALUE=URI:https://ludwigshafen-wow.de/valentina-jaffe-finissage-mit-performance-von-vivian-schoechlin/
TRANSP:OPAQUE
BEGIN:VALARM
ACTION:DISPLAY
TRIGGER;TZID=Europe/Berlin:20260426T150000
DESCRIPTION:Reminder for Valentina Jaffé. Finissage mit Performance von Vivian Schöchlin
END:VALARM
END:VEVENT
END:VCALENDAR
