BEGIN:VCALENDAR
VERSION:2.0
PRODID:-//Ludwigshafen WOW //NONSGML Events //EN
CALSCALE:GREGORIAN
X-WR-CALNAME:Ludwigshafen WOW
BEGIN:VTIMEZONE
TZID:Europe/Berlin
TZURL:http://tzurl.org/zoneinfo-outlook/Europe/Berlin
X-LIC-LOCATION:Europe/Berlin
BEGIN:STANDARD
TZOFFSETFROM:+0200
TZOFFSETTO:+0100
TZNAME:CET
DTSTART:19701025T030000
RRULE:FREQ=YEARLY;BYMONTH=10;BYDAY=-1SU
END:STANDARD
BEGIN:DAYLIGHT
TZOFFSETFROM:+0100
TZOFFSETTO:+0200
TZNAME:CEST
DTSTART:19700329T020000
RRULE:FREQ=YEARLY;BYMONTH=3;BYDAY=-1SU
END:DAYLIGHT
END:VTIMEZONE
BEGIN:VEVENT
TZID:Europe/Berlin
CREATED:20260428T114741
UID:57227
DTSTART;TZID=Europe/Berlin:20260428T094500
DTEND;TZID=Europe/Berlin:20260428T104500
DTSTAMP:20260424T095413
LOCATION:Wilhelm-Hack-MuseumBerliner Str. 23\, 67059 Ludwigshafen am Rhein
DESCRIPTION:Muse am Morgen vertreibt Kummer und Sorgen.In einer kleinen Runde werden wir entspannt in die Welt der Kunst und Farben eintauchen und verschiedene künstlerische Materialien wie Aquarell- und Acrylfarben oder Ölpastellkreiden kennen lernen. Der Kurs ist für Interessierte mit und ohne Vorkenntnisse geeignet. Quelle: Wilhelm-Hack-Museum, Bild: Unsplash.Terminejeweils dienstags (8x): 28/04, 05/05, 12/05, 19/05, 26/05, 02/06, 09/06, 16/06/2026LeitungValentina JafféKosten160€ (inkl. Material)Weitere InfosSonstiges: max. 10 Teilnehmer*innenAnmeldung per Mail an: anmeldung.whm@ludwigshafen.de
SUMMARY:Muse-Stunde
ORGANIZER:ludwigshafen-wow
URL;VALUE=URI:https://ludwigshafen-wow.de/muse-stunde-18/
TRANSP:OPAQUE
BEGIN:VALARM
ACTION:DISPLAY
TRIGGER;TZID=Europe/Berlin:20260428T084500
DESCRIPTION:Reminder for Muse-Stunde
END:VALARM
END:VEVENT
END:VCALENDAR
