BEGIN:VCALENDAR
VERSION:2.0
PRODID:-//Ludwigshafen WOW //NONSGML Events //EN
CALSCALE:GREGORIAN
X-WR-CALNAME:Ludwigshafen WOW
BEGIN:VTIMEZONE
TZID:Europe/Berlin
TZURL:http://tzurl.org/zoneinfo-outlook/Europe/Berlin
X-LIC-LOCATION:Europe/Berlin
BEGIN:STANDARD
TZOFFSETFROM:+0200
TZOFFSETTO:+0100
TZNAME:CET
DTSTART:19701025T030000
RRULE:FREQ=YEARLY;BYMONTH=10;BYDAY=-1SU
END:STANDARD
BEGIN:DAYLIGHT
TZOFFSETFROM:+0100
TZOFFSETTO:+0200
TZNAME:CEST
DTSTART:19700329T020000
RRULE:FREQ=YEARLY;BYMONTH=3;BYDAY=-1SU
END:DAYLIGHT
END:VTIMEZONE
BEGIN:VEVENT
TZID:Europe/Berlin
CREATED:20260502T115708
UID:57234
DTSTART;TZID=Europe/Berlin:20260502T150000
DTEND;TZID=Europe/Berlin:20260502T160000
DTSTAMP:20260422T113747
LOCATION:Wilhelm-Hack-MuseumBerliner Str. 23\, 67059 Ludwigshafen am Rhein
DESCRIPTION:Jeden ersten Samstag im Monat findet eine Führung durch das Kabinettstück:Raymond Pettibon. Nervous Breakdown - Albumcovers aus der Sammlung Stefan Thull statt.Der gemeinsame Austausch mit unseren Kunstvermittler*innen ermöglicht es, die Ausstellung besser kennenzulernen. Quelle & Bild: Wilhelm Hack MuseumEintritt5€, zzgl. Eintritt
SUMMARY:Öffentliche Führung. Raymond Pettibon. Nervous Breakdown – Albumcovers
ORGANIZER:ludwigshafen-wow
URL;VALUE=URI:https://ludwigshafen-wow.de/oeffentliche-fuehrung-raymond-pettibon-nervous-breakdown-albumcovers/
TRANSP:OPAQUE
BEGIN:VALARM
ACTION:DISPLAY
TRIGGER;TZID=Europe/Berlin:20260502T140000
DESCRIPTION:Reminder for Öffentliche Führung. Raymond Pettibon. Nervous Breakdown – Albumcovers
END:VALARM
END:VEVENT
END:VCALENDAR
