BEGIN:VCALENDAR
VERSION:2.0
PRODID:-//Ludwigshafen WOW //NONSGML Events //EN
CALSCALE:GREGORIAN
X-WR-CALNAME:Ludwigshafen WOW
BEGIN:VTIMEZONE
TZID:Europe/Berlin
TZURL:http://tzurl.org/zoneinfo-outlook/Europe/Berlin
X-LIC-LOCATION:Europe/Berlin
BEGIN:STANDARD
TZOFFSETFROM:+0200
TZOFFSETTO:+0100
TZNAME:CET
DTSTART:19701025T030000
RRULE:FREQ=YEARLY;BYMONTH=10;BYDAY=-1SU
END:STANDARD
BEGIN:DAYLIGHT
TZOFFSETFROM:+0100
TZOFFSETTO:+0200
TZNAME:CEST
DTSTART:19700329T020000
RRULE:FREQ=YEARLY;BYMONTH=3;BYDAY=-1SU
END:DAYLIGHT
END:VTIMEZONE
BEGIN:VEVENT
TZID:Europe/Berlin
CREATED:20260523T080107
UID:57319
DTSTART;TZID=Europe/Berlin:20260523T180000
DTEND;TZID=Europe/Berlin:20260523T190000
DTSTAMP:20260423T133001
LOCATION:Friedrich-Ebert-Halle\, Erzbergerstraße 89\, 67063 Ludwigshafen am Rhein
DESCRIPTION:Ludwigshafen sagt DANKE!Der Bundespräsident hat den diesjährigen Geburtstag des deutschen Grundgesetzes am 23.05.2026 zum #EHRENTAG ausgerufen, denn unsere Gesellschaft lebt vom Mitmachen.Zu diesem Anlass bietet LUnited euch die Möglichkeit, den Ehrenamtlern unserer Stadt mit einem Kontingent kostenloser persönlicher Tickets für das Heimspiel unserer Eulen an diesem Tag DANKE zu sagen!Teilt uns hier mit, wessen Engagement ihr mit einem Besuch in der #Eberthölle belohnen möchtet.Wir sichten eure Vorschläge und ihr erhaltet eine Benachrichtigung, wenn eure Engagierten dabei sein können. Bild & Quelle: Lunited e. V.EintrittfreiWeitere InfosDer Einlass beginnt bereits um 16:30 Uhr  ZU DEN TICKETS 
SUMMARY:EHRENamtsspielTAG
ORGANIZER:ludwigshafen-wow
URL;VALUE=URI:https://ludwigshafen-wow.de/ehrenamtsspieltag/
TRANSP:OPAQUE
BEGIN:VALARM
ACTION:DISPLAY
TRIGGER;TZID=Europe/Berlin:20260523T170000
DESCRIPTION:Reminder for EHRENamtsspielTAG
END:VALARM
END:VEVENT
END:VCALENDAR
