BEGIN:VCALENDAR
VERSION:2.0
PRODID:-//Ludwigshafen WOW //NONSGML Events //EN
CALSCALE:GREGORIAN
X-WR-CALNAME:Ludwigshafen WOW
BEGIN:VTIMEZONE
TZID:Europe/Berlin
TZURL:http://tzurl.org/zoneinfo-outlook/Europe/Berlin
X-LIC-LOCATION:Europe/Berlin
BEGIN:STANDARD
TZOFFSETFROM:+0200
TZOFFSETTO:+0100
TZNAME:CET
DTSTART:19701025T030000
RRULE:FREQ=YEARLY;BYMONTH=10;BYDAY=-1SU
END:STANDARD
BEGIN:DAYLIGHT
TZOFFSETFROM:+0100
TZOFFSETTO:+0200
TZNAME:CEST
DTSTART:19700329T020000
RRULE:FREQ=YEARLY;BYMONTH=3;BYDAY=-1SU
END:DAYLIGHT
END:VTIMEZONE
BEGIN:VEVENT
TZID:Europe/Berlin
CREATED:20260508T094551
UID:57356
DTSTART;TZID=Europe/Berlin:20260508T173000
DTEND;TZID=Europe/Berlin:20260508T183000
DTSTAMP:20260422T115905
LOCATION:
DESCRIPTION:Die Route führt durch Ludwigshafens Innenstadt und zeigt, wie vielseitig sich die Stadt im Zusammenspiel von Kunst, Geschichte und städtebaulicher Entwicklung präsentiert.Diese Tour verbindet Kunst und Architektur: vom Harlekin am Kulturzentrum dasHaus durch die Westend-Siedlung bis zum Ensemble aus Pylonbrücke und Hauptbahnhof mit vielfältiger Wandkunst. Quelle: LUKOM mbH, Foto: Ralph BeetzEintrittPay what you wantAnmeldungper Mail an: tourist-info@lukom.com, oder per Tel.: 0621 51 20 36VeranstalterLukom & Wilhelm-Hack-Museum
SUMMARY:Stadt erLeben. Vom Harlekin zum Hauptbahnhof
ORGANIZER:ludwigshafen-wow
URL;VALUE=URI:https://ludwigshafen-wow.de/stadt-erleben-vom-harlekin-zum-hauptbahnhof/
TRANSP:OPAQUE
BEGIN:VALARM
ACTION:DISPLAY
TRIGGER;TZID=Europe/Berlin:20260508T163000
DESCRIPTION:Reminder for Stadt erLeben. Vom Harlekin zum Hauptbahnhof
END:VALARM
END:VEVENT
END:VCALENDAR
