BEGIN:VCALENDAR
VERSION:2.0
PRODID:-//Ludwigshafen WOW //NONSGML Events //EN
CALSCALE:GREGORIAN
X-WR-CALNAME:Ludwigshafen WOW
BEGIN:VTIMEZONE
TZID:Europe/Berlin
TZURL:http://tzurl.org/zoneinfo-outlook/Europe/Berlin
X-LIC-LOCATION:Europe/Berlin
BEGIN:STANDARD
TZOFFSETFROM:+0200
TZOFFSETTO:+0100
TZNAME:CET
DTSTART:19701025T030000
RRULE:FREQ=YEARLY;BYMONTH=10;BYDAY=-1SU
END:STANDARD
BEGIN:DAYLIGHT
TZOFFSETFROM:+0100
TZOFFSETTO:+0200
TZNAME:CEST
DTSTART:19700329T020000
RRULE:FREQ=YEARLY;BYMONTH=3;BYDAY=-1SU
END:DAYLIGHT
END:VTIMEZONE
BEGIN:VEVENT
TZID:Europe/Berlin
CREATED:20260423T084457
UID:57483
DTSTART;TZID=Europe/Berlin:20260423T180000
DTEND;TZID=Europe/Berlin:20260423T190000
DTSTAMP:20260420T132929
LOCATION:Ernst-Bloch-Zentrum\, Walzmühlstraße 63\, 67061 Ludwigshafen am Rhein
DESCRIPTION:„Einheit und Zerfall – Internationale Politik in der älteren Kritischen Theorie“Hartnäckig hält sich das Gerücht, die ältere Kritische Theorie habe zu internationaler Politik nichts zu sagen. Doch hat man vielleicht bisher nur nicht ausreichend genau hingesehen? Tatsächlich, so zeigt Moritz Rudolphs Studie, fügt sie den Theorien internationaler Politik hinzu, was diesen fehlt, ohne es zu wissen: eine Dialektik von Einheit und Zerfall.Moritz Rudolph, 1989 in Gotha geboren, hat Politik, Geschichte und Philosophie studiert. Er lebt in Leipzig und schreibt u.a. für den Merkur und das Philosophie-Magazin. Quelle & Bild: Ernst-Bloch-ZentrumEintrittfrei
SUMMARY:Lesung und Buchpräsentation von Dr. Moritz Rudolph
ORGANIZER:ludwigshafen-wow
URL;VALUE=URI:https://ludwigshafen-wow.de/lesung-und-buchpraesentation-dr-moritz-rudolph/
TRANSP:OPAQUE
BEGIN:VALARM
ACTION:DISPLAY
TRIGGER;TZID=Europe/Berlin:20260423T170000
DESCRIPTION:Reminder for Lesung und Buchpräsentation von Dr. Moritz Rudolph
END:VALARM
END:VEVENT
END:VCALENDAR
