BEGIN:VCALENDAR
VERSION:2.0
PRODID:-//Ludwigshafen WOW //NONSGML Events //EN
CALSCALE:GREGORIAN
X-WR-CALNAME:Ludwigshafen WOW
BEGIN:VTIMEZONE
TZID:Europe/Berlin
TZURL:http://tzurl.org/zoneinfo-outlook/Europe/Berlin
X-LIC-LOCATION:Europe/Berlin
BEGIN:STANDARD
TZOFFSETFROM:+0200
TZOFFSETTO:+0100
TZNAME:CET
DTSTART:19701025T030000
RRULE:FREQ=YEARLY;BYMONTH=10;BYDAY=-1SU
END:STANDARD
BEGIN:DAYLIGHT
TZOFFSETFROM:+0100
TZOFFSETTO:+0200
TZNAME:CEST
DTSTART:19700329T020000
RRULE:FREQ=YEARLY;BYMONTH=3;BYDAY=-1SU
END:DAYLIGHT
END:VTIMEZONE
BEGIN:VEVENT
TZID:Europe/Berlin
CREATED:20260512T092743
UID:57517
DTSTART;TZID=Europe/Berlin:20260512T160000
DTEND;TZID=Europe/Berlin:20260512T170000
DTSTAMP:20260420T133048
LOCATION:Ernst-Bloch-Zentrum\, Walzmühlstraße 63\, 67061 Ludwigshafen am Rhein
DESCRIPTION:




Klaviermusik am Nachmittag mit Paul Stich (Klavier) und Dima Kravets (Klavier)
Eine Reihe der Stiftung Ernst-Bloch-Zentrum im Ernst-Bloch-Zentrum der Stadt Ludwigshafen am Rhein in Kooperation mit der Staatlichen Hochschule für Musik und Darstellende Kunst Mannheim und der Pfälzischen Musikgesellschaft e.V. Quelle: Ernst-Bloch-Zentrum, Bild: Rialy Radafy
“Die hörbare Welt” ist ein Zitat aus Ernst Blochs Werk “Geist der Utopie” (GA Bd. 3 1977, S. 207
Eintritt7€ / ermäßigt 5€ – für Mitglieder der pfälzischen Musikgesellschaft ist der Eintritt frei
SUMMARY:„Die hörbare Welt“. Nachmittagskonzert mit Ausstellungsbesuch
ORGANIZER:ludwigshafen-wow
URL;VALUE=URI:https://ludwigshafen-wow.de/die-hoerbare-welt-nachmittagskonzert-mit-ausstellungsbesuch-12/
TRANSP:OPAQUE
BEGIN:VALARM
ACTION:DISPLAY
TRIGGER;TZID=Europe/Berlin:20260512T150000
DESCRIPTION:Reminder for „Die hörbare Welt“. Nachmittagskonzert mit Ausstellungsbesuch
END:VALARM
END:VEVENT
END:VCALENDAR
