BEGIN:VCALENDAR
VERSION:2.0
PRODID:-//Ludwigshafen WOW //NONSGML Events //EN
CALSCALE:GREGORIAN
X-WR-CALNAME:Ludwigshafen WOW
BEGIN:VTIMEZONE
TZID:Europe/Berlin
TZURL:http://tzurl.org/zoneinfo-outlook/Europe/Berlin
X-LIC-LOCATION:Europe/Berlin
BEGIN:STANDARD
TZOFFSETFROM:+0200
TZOFFSETTO:+0100
TZNAME:CET
DTSTART:19701025T030000
RRULE:FREQ=YEARLY;BYMONTH=10;BYDAY=-1SU
END:STANDARD
BEGIN:DAYLIGHT
TZOFFSETFROM:+0100
TZOFFSETTO:+0200
TZNAME:CEST
DTSTART:19700329T020000
RRULE:FREQ=YEARLY;BYMONTH=3;BYDAY=-1SU
END:DAYLIGHT
END:VTIMEZONE
BEGIN:VEVENT
TZID:Europe/Berlin
CREATED:20260513T094736
UID:57523
DTSTART;TZID=Europe/Berlin:20260513T173000
DTEND;TZID=Europe/Berlin:20260513T183000
DTSTAMP:20260422T100824
LOCATION:Ernst-Bloch-Zentrum\, Walzmühlstraße 63\, 67061 Ludwigshafen am Rhein
DESCRIPTION:Lesekreis zu ausgewählten Texten des Philosophen Ernst BlochDer Lesekreis findet im großen Veranstaltungsraum des Ernst-Bloch-Zentrums statt. Es sind weder philosophische Vorkenntnisse noch Kenntnisse des Werks von Ernst Bloch nötig, um sich daran zu beteiligen. Quelle & Bild: Ernst-Bloch-ZentrumDa die Zahl der Teilnehmenden begrenz ist, wird um eine vorherige Anmeldung gebeten!KontaktLeitung des Lesekreises und weitere Informationen, Prof. Dr. Mattias Mayer (matthias.mayer@ludwigshafen.de)Eintrittfrei
SUMMARY:Bloch lesen! Lesekreis
ORGANIZER:ludwigshafen-wow
URL;VALUE=URI:https://ludwigshafen-wow.de/bloch-lesen-lesekreis-4/
TRANSP:OPAQUE
BEGIN:VALARM
ACTION:DISPLAY
TRIGGER;TZID=Europe/Berlin:20260513T163000
DESCRIPTION:Reminder for Bloch lesen! Lesekreis
END:VALARM
END:VEVENT
END:VCALENDAR
