BEGIN:VCALENDAR
VERSION:2.0
PRODID:-//Ludwigshafen WOW //NONSGML Events //EN
CALSCALE:GREGORIAN
X-WR-CALNAME:Ludwigshafen WOW
BEGIN:VTIMEZONE
TZID:Europe/Berlin
TZURL:http://tzurl.org/zoneinfo-outlook/Europe/Berlin
X-LIC-LOCATION:Europe/Berlin
BEGIN:STANDARD
TZOFFSETFROM:+0200
TZOFFSETTO:+0100
TZNAME:CET
DTSTART:19701025T030000
RRULE:FREQ=YEARLY;BYMONTH=10;BYDAY=-1SU
END:STANDARD
BEGIN:DAYLIGHT
TZOFFSETFROM:+0100
TZOFFSETTO:+0200
TZNAME:CEST
DTSTART:19700329T020000
RRULE:FREQ=YEARLY;BYMONTH=3;BYDAY=-1SU
END:DAYLIGHT
END:VTIMEZONE
BEGIN:VEVENT
TZID:Europe/Berlin
CREATED:20260421T141406
UID:57682
DTSTART;TZID=Europe/Berlin:20260421T170000
DTEND;TZID=Europe/Berlin:20260421T180000
DTSTAMP:20260420T122329
LOCATION:Stadtbibliothek Ludwigshafen\, Bismarckstraße 44-48\, 67059 Ludwigshafen am Rhein
DESCRIPTION:Was ist ChatGPT eigentlich? Wie kann es genutzt werden, wofür benötigt man es überhaupt? Und welche Probleme oder Risiken gibt es?Diese und viele weitere Fragen werden im Workshop „ChatGPT für Anfänger“ geklärt.Der Workshop richtet sich an Erwachsene, die ChatGPT und ähnliche KI-Programme bisher noch gar nicht oder nur wenig ausprobiert haben. Es wird gemeinsam erkundet, was Künstliche Intelligenz ist, wie ChatGPT funktioniert und wie es im Alltag sinnvoll genutzt werden kann: zum Beispiel beim Schreiben von Texten, beim Finden von Ideen, beim Recherchieren oder beim Ordnen von Informationen.ChatGPT wird dabei auch praktisch ausprobiert. Zudem wird besprochen, wo die Grenzen solcher Programme liegen, wie zuverlässig die Antworten sind und worauf beim Datenschutz geachtet werden sollte. Vorkenntnisse sind nicht erforderlich. Quelle: Ideenw3rk der Stadtbibliothek Ludwigshafen, Bild: Unsplash.ProgrammEine verständliche Einführung in ChatGPTErste Schritte und einfache AnwendungenPraktische Beispiele aus dem AlltagChancen, Grenzen und mögliche FallstrickeZeit für Fragen und AustauschEin Workshop zum Mitmachen, Ausprobieren und Nachfragen.KostenfreiWeitere Infosoffen für alle, Erwachsene Anfänger ohne oder mit wenig VorkenntnissenKursleitungDaniel RübelAnmeldungalle weiteren Infos zur Anmeldung findest du hier 
SUMMARY:ChatGPT für Anfänger
ORGANIZER:ludwigshafen-wow
URL;VALUE=URI:https://ludwigshafen-wow.de/chatgpt-fuer-anfaenger/
TRANSP:OPAQUE
BEGIN:VALARM
ACTION:DISPLAY
TRIGGER;TZID=Europe/Berlin:20260421T160000
DESCRIPTION:Reminder for ChatGPT für Anfänger
END:VALARM
END:VEVENT
END:VCALENDAR
