BEGIN:VCALENDAR
VERSION:2.0
PRODID:-//Ludwigshafen WOW //NONSGML Events //EN
CALSCALE:GREGORIAN
X-WR-CALNAME:Ludwigshafen WOW
BEGIN:VTIMEZONE
TZID:Europe/Berlin
TZURL:http://tzurl.org/zoneinfo-outlook/Europe/Berlin
X-LIC-LOCATION:Europe/Berlin
BEGIN:STANDARD
TZOFFSETFROM:+0200
TZOFFSETTO:+0100
TZNAME:CET
DTSTART:19701025T030000
RRULE:FREQ=YEARLY;BYMONTH=10;BYDAY=-1SU
END:STANDARD
BEGIN:DAYLIGHT
TZOFFSETFROM:+0100
TZOFFSETTO:+0200
TZNAME:CEST
DTSTART:19700329T020000
RRULE:FREQ=YEARLY;BYMONTH=3;BYDAY=-1SU
END:DAYLIGHT
END:VTIMEZONE
BEGIN:VEVENT
TZID:Europe/Berlin
CREATED:20260425T074228
UID:57728
DTSTART;TZID=Europe/Berlin:20260425T120000
DTEND;TZID=Europe/Berlin:20260425T130000
DTSTAMP:20260424T123905
LOCATION:Stadtbibliothek Ludwigshafen\, Bismarckstraße 44-48\, 67059 Ludwigshafen am Rhein
DESCRIPTION:Hier findet ihr Comicfans, die sich gerne ausgiebig unterhalten wollen.Die Namen X-Men, Batman, Wonder Woman oder Iron Man haben schon viele Leute gehört, aber nur echte Fans kennen ihre kompletten Geschichten aus den Comicbüchern. Wie viele Robins gab es eigentlich und wie sehr weicht der neue Spider Man-Film von den Comics ab? Hier findet ihr Comicfans, die sich gerne ausgiebig unterhalten wollen. Quelle & Bild: Stadtbibliothek LudwigshafenMehr Informationen auf der Website des Ideenw3rks.KostenfreiWeitere Infosab 16 JahrenKursleitungFabricio Dos SantosAnmeldungKeine Anmeldung nötig. Kommt einfach gerne vorbei :)!
SUMMARY:Comic Club
ORGANIZER:ludwigshafen-wow
URL;VALUE=URI:https://ludwigshafen-wow.de/comic-club/
TRANSP:OPAQUE
BEGIN:VALARM
ACTION:DISPLAY
TRIGGER;TZID=Europe/Berlin:20260425T110000
DESCRIPTION:Reminder for Comic Club
END:VALARM
END:VEVENT
END:VCALENDAR
