BEGIN:VCALENDAR
VERSION:2.0
PRODID:-//Ludwigshafen WOW //NONSGML Events //EN
CALSCALE:GREGORIAN
X-WR-CALNAME:Ludwigshafen WOW
BEGIN:VTIMEZONE
TZID:Europe/Berlin
TZURL:http://tzurl.org/zoneinfo-outlook/Europe/Berlin
X-LIC-LOCATION:Europe/Berlin
BEGIN:STANDARD
TZOFFSETFROM:+0200
TZOFFSETTO:+0100
TZNAME:CET
DTSTART:19701025T030000
RRULE:FREQ=YEARLY;BYMONTH=10;BYDAY=-1SU
END:STANDARD
BEGIN:DAYLIGHT
TZOFFSETFROM:+0100
TZOFFSETTO:+0200
TZNAME:CEST
DTSTART:19700329T020000
RRULE:FREQ=YEARLY;BYMONTH=3;BYDAY=-1SU
END:DAYLIGHT
END:VTIMEZONE
BEGIN:VEVENT
TZID:Europe/Berlin
CREATED:20260422T082312
UID:57755
DTSTART;TZID=Europe/Berlin:20260422T160000
DTEND;TZID=Europe/Berlin:20260422T170000
DTSTAMP:20260423T101553
LOCATION:Stadtbibliothek Ludwigshafen\, Bismarckstraße 44-48\, 67059 Ludwigshafen am Rhein
DESCRIPTION:Go ist eines der ältesten Spiele der Menschheit. Je nach Quelle wird es bereits seit 2.500 bis 4.000 Jahren gespielt.Damit ist es wahrscheinlich das älteste Spiel, das heute noch gespielt wird. Die Regeln sind verblüffend einfach: abwechselnd werden Spielsteine auf ein Brett gelegt, das Ziel ist das Abgrenzen von Gebieten.Wer selbst die Faszination der weißen und schwarzen Steinchen erleben möchte, kann das bei unseren zweiwöchentlichen Go-Spieleabenden tun.  Anwesend sind erfahrene Spielerinnen und Spieler, die den Einstieg erleichtern und die Regeln erläutern können – willkommen sind Anfänger genauso wie Gelegenheitsspieler oder Go-Experten, die eine neue Herausforderung suchen. Quelle: Stadtbibliothek Ludwigshafen, Bild: Usman AbdulrasheedGamboKostenfreiWeitere Infosfür alle offen, keine Vorkenntnisse nötigKursleitungAndreas SchillingerAnmeldungkeine Anmeldung nötig. Kommt einfach vorbei :)!
SUMMARY:Go Spieleabend
ORGANIZER:ludwigshafen-wow
URL;VALUE=URI:https://ludwigshafen-wow.de/?p=57755
TRANSP:OPAQUE
BEGIN:VALARM
ACTION:DISPLAY
TRIGGER;TZID=Europe/Berlin:20260422T150000
DESCRIPTION:Reminder for Go Spieleabend
END:VALARM
END:VEVENT
END:VCALENDAR
