BEGIN:VCALENDAR
VERSION:2.0
PRODID:-//Ludwigshafen WOW //NONSGML Events //EN
CALSCALE:GREGORIAN
X-WR-CALNAME:Ludwigshafen WOW
BEGIN:VTIMEZONE
TZID:Europe/Berlin
TZURL:http://tzurl.org/zoneinfo-outlook/Europe/Berlin
X-LIC-LOCATION:Europe/Berlin
BEGIN:STANDARD
TZOFFSETFROM:+0200
TZOFFSETTO:+0100
TZNAME:CET
DTSTART:19701025T030000
RRULE:FREQ=YEARLY;BYMONTH=10;BYDAY=-1SU
END:STANDARD
BEGIN:DAYLIGHT
TZOFFSETFROM:+0100
TZOFFSETTO:+0200
TZNAME:CEST
DTSTART:19700329T020000
RRULE:FREQ=YEARLY;BYMONTH=3;BYDAY=-1SU
END:DAYLIGHT
END:VTIMEZONE
BEGIN:VEVENT
TZID:Europe/Berlin
CREATED:20260424T092443
UID:57807
DTSTART;TZID=Europe/Berlin:20260424T160000
DTEND;TZID=Europe/Berlin:20260424T170000
DTSTAMP:20260424T123903
LOCATION:
DESCRIPTION:Wegwerfen und neu kaufen war gestern. Tausch Dich glücklich bei unserer Kleidertauschparty!Bei dir hängen Klamotten im Schrank, die du nicht mehr trägst, die aber anderen gefallen könnten? Du möchtest die Umwelt schonen, liebst Abwechslung im Kleiderschrank, willst aber nicht schon wieder Geld ausgeben? Dann ist der Kleidertausch genau das Richtige für dich!Das Prinzip ist einfach!Jeder kann bis zu zehn gut erhaltene und saubere Kleidungstücke, Schuhe und Accessoires für Frauen, Männer und Kinder, mitbringen. Diese werden dann auf Tische und Ständer nach Kategorien sortiert. Anschließend kann nach Herzenslust in den Sachen der anderen herumgestöbert werden. Was gefällt, darf mit nach Hause genommen werden – kostenlos. Übrig gebliebene Kleidungsteile werden an Ludwigshafener Kleidertreffs gespendet.Die Kleidertauschparty findet anlässlich der Fashion Revolution Woche statt. Organisiert wird die Kleidertauschparty von der Abfallberatung in Kooperation mit der Volkshochschule Ludwigshafen und der Initiative Lokale Agenda 21 Ludwigshafen. Quelle & Bild: Volkshochschule LudwigshafenEintrittfreiWeitere Infosauf der Website der Stadt Ludwigshafen
SUMMARY:Kleidertauschparty
ORGANIZER:ludwigshafen-wow
URL;VALUE=URI:https://ludwigshafen-wow.de/kleidertauschparty-10/
TRANSP:OPAQUE
BEGIN:VALARM
ACTION:DISPLAY
TRIGGER;TZID=Europe/Berlin:20260424T150000
DESCRIPTION:Reminder for Kleidertauschparty
END:VALARM
END:VEVENT
END:VCALENDAR
