BEGIN:VCALENDAR
VERSION:2.0
PRODID:-//Ludwigshafen WOW //NONSGML Events //EN
CALSCALE:GREGORIAN
X-WR-CALNAME:Ludwigshafen WOW
BEGIN:VTIMEZONE
TZID:Europe/Berlin
TZURL:http://tzurl.org/zoneinfo-outlook/Europe/Berlin
X-LIC-LOCATION:Europe/Berlin
BEGIN:STANDARD
TZOFFSETFROM:+0200
TZOFFSETTO:+0100
TZNAME:CET
DTSTART:19701025T030000
RRULE:FREQ=YEARLY;BYMONTH=10;BYDAY=-1SU
END:STANDARD
BEGIN:DAYLIGHT
TZOFFSETFROM:+0100
TZOFFSETTO:+0200
TZNAME:CEST
DTSTART:19700329T020000
RRULE:FREQ=YEARLY;BYMONTH=3;BYDAY=-1SU
END:DAYLIGHT
END:VTIMEZONE
BEGIN:VEVENT
TZID:Europe/Berlin
CREATED:20260502T151954
UID:57855
DTSTART;TZID=Europe/Berlin:20260502T193000
DTEND;TZID=Europe/Berlin:20260502T203000
DTSTAMP:20260423T103919
LOCATION:Kulturzentrum dasHausBahnhofstraße 30\, 67059 Ludwigshafen am Rhein
DESCRIPTION:FEMALE METAL NIGHT – Live im DOME LudwigshafenDie Female Metal Night bringt drei starke Bands auf eine Bühne – vereint durch kompromisslosen Sound und eindrucksvolle Frontfrauen am Mikrofon.ROUGHROSE’NBOOMERANGAlle drei Bands stehen für energiegeladene Riffs, druckvolle Beats und charismatische Sängerinnen, die dem Metal ihre ganz eigene Handschrift verleihen. Von melodisch bis brachial – diese Nacht zeigt, wie vielfältig und kraftvoll Female-Fronted Metal sein kann.Metal-Fans aufgepasst: Dieses Konzert ist ein Muss für alle, die starke Stimmen, fette Gitarren und eine intensive Live-Atmosphäre lieben.Seid dabei, wenn der DOME bebt! Quelle & Bild: Kulturzentrum dasHausEintritt21,69€  ZU DEN TICKETS 
SUMMARY:FEMALE FRONTED METAL NIGHT
ORGANIZER:ludwigshafen-wow
URL;VALUE=URI:https://ludwigshafen-wow.de/female-fronted-metal-night/
TRANSP:OPAQUE
BEGIN:VALARM
ACTION:DISPLAY
TRIGGER;TZID=Europe/Berlin:20260502T183000
DESCRIPTION:Reminder for FEMALE FRONTED METAL NIGHT
END:VALARM
END:VEVENT
END:VCALENDAR
