BEGIN:VCALENDAR
VERSION:2.0
PRODID:-//Ludwigshafen WOW //NONSGML Events //EN
CALSCALE:GREGORIAN
X-WR-CALNAME:Ludwigshafen WOW
BEGIN:VTIMEZONE
TZID:Europe/Berlin
TZURL:http://tzurl.org/zoneinfo-outlook/Europe/Berlin
X-LIC-LOCATION:Europe/Berlin
BEGIN:STANDARD
TZOFFSETFROM:+0200
TZOFFSETTO:+0100
TZNAME:CET
DTSTART:19701025T030000
RRULE:FREQ=YEARLY;BYMONTH=10;BYDAY=-1SU
END:STANDARD
BEGIN:DAYLIGHT
TZOFFSETFROM:+0100
TZOFFSETTO:+0200
TZNAME:CEST
DTSTART:19700329T020000
RRULE:FREQ=YEARLY;BYMONTH=3;BYDAY=-1SU
END:DAYLIGHT
END:VTIMEZONE
BEGIN:VEVENT
TZID:Europe/Berlin
CREATED:20260509T155921
UID:57873
DTSTART;TZID=Europe/Berlin:20260509T110000
DTEND;TZID=Europe/Berlin:20260509T120000
DTSTAMP:20260423T101634
LOCATION:Kulturzentrum dasHausBahnhofstraße 30\, 67059 Ludwigshafen am Rhein
DESCRIPTION:Clowneskes Theater, kombiniert mit Jonglage und MusikEin Zirkus ohne Sägespäne, Tiere, Artisten, gar ohne Zelt? Zwei Figuren versuchen Glanz und Magie ihres Traums zum Leben zu erwecken.Die beiden brauchen keine Manege; nur einige wenige Requisiten und viel Enthusiasmus reichen ihnen, um das Publikum mit ihrer Nostalgie anzustecken und ein Stück Zirkus auf die Bühne zu zaubern. So entführen sie die Zuschauer in eine unterhaltsame Welt, wo sie mit Musik, Jonglage und weiteren Überraschungen die Faszination des Zirkus und die Poesie des Clowns entdecken. Quelle & Bild: Kulturzentrum dasHausVon und mit: Naïma Bärlocher und Gerardo TetillaEintrittKita mit Voranmeldung: 5€ pro Kind / VVK Erwachsene: 10,90€ (zzgl. Gebühren) / VVK Kind: 6,50€ (zzgl. Gebühren) / AK Erwachsene: 13€ / AK Kind: 8€  ZU DEN TICKETS 
SUMMARY:Very Little Circus
ORGANIZER:ludwigshafen-wow
URL;VALUE=URI:https://ludwigshafen-wow.de/very-little-circus-2/
TRANSP:OPAQUE
BEGIN:VALARM
ACTION:DISPLAY
TRIGGER;TZID=Europe/Berlin:20260509T100000
DESCRIPTION:Reminder for Very Little Circus
END:VALARM
END:VEVENT
END:VCALENDAR
