BEGIN:VCALENDAR
VERSION:2.0
PRODID:-//Ludwigshafen WOW //NONSGML Events //EN
CALSCALE:GREGORIAN
X-WR-CALNAME:Ludwigshafen WOW
BEGIN:VTIMEZONE
TZID:Europe/Berlin
TZURL:http://tzurl.org/zoneinfo-outlook/Europe/Berlin
X-LIC-LOCATION:Europe/Berlin
BEGIN:STANDARD
TZOFFSETFROM:+0200
TZOFFSETTO:+0100
TZNAME:CET
DTSTART:19701025T030000
RRULE:FREQ=YEARLY;BYMONTH=10;BYDAY=-1SU
END:STANDARD
BEGIN:DAYLIGHT
TZOFFSETFROM:+0100
TZOFFSETTO:+0200
TZNAME:CEST
DTSTART:19700329T020000
RRULE:FREQ=YEARLY;BYMONTH=3;BYDAY=-1SU
END:DAYLIGHT
END:VTIMEZONE
BEGIN:VEVENT
TZID:Europe/Berlin
CREATED:20260513T082853
UID:57878
DTSTART;TZID=Europe/Berlin:20260513T200000
DTEND;TZID=Europe/Berlin:20260513T210000
DTSTAMP:20260423T101638
LOCATION:Kulturzentrum dasHausBahnhofstraße 30\, 67059 Ludwigshafen am Rhein
DESCRIPTION:Die Aschaffenburgerin Lisa-Marie Fritz aka Schlongonges ist wie der Künstler-Name schon sagt, eine alleinstehende Power-Maschine die in ihren mitreißenden Geschichten schon öfter den Faden verloren hat, als deine Oma in ihrer gesamten Stricklaufbahn.Das Ascheberscher Mädel mit der großen Klappe ist ab Herbst auf Solotour in Deutschland unterwegs. Mit ihrem Programm – Themaverfehlung – und ihrem sexy "Akzent" bringt sie selbst jeden Franzosen zum Schmelzen und eure Lachmuskeln auf Hochtouren. Seit einem legendären Auftritt bei einer Open-Mic-Night gewinnt sie mit ihrer charmanten, urkomischen Art regelmäßig die Herzen ihres Publikums für sich. Die 36-Jährige schafft es aus dem Stegreif heraus einen ganzen Abend lang die Bühne zu rocken. Sie selbst spricht von sich gerne als lebendige „Themaverfehlung“. Ob das bei ihr dann auch tatsächlich Programm ist? Das erfährt nur, wer sie selbst live on Stage erlebt. Eines ist aber auf jeden Fall jetzt schon sicher. Ein Abend mit Schlongonges wird sagenhaft! Schlongonges aka Lisa-Marie Fritz wurde am 15.08.1988 in Erlenbach am Main geboren, wuchs im idyllischen Mömlingen auf und lebt heute mit ihrer Tochter in Aschaffenburg. Sie kam auf die Comedy-Bühne quasi wie die Jungfrau zum Kinde. Seither erobert sie die Bühnen mit ihren packenden Alltagsgeschichten regelmäßig für sich. Seit Herbst tourt Schlongonges mit ihrem ersten Solo-Programm durch Deutschland und verzaubert garantiert auch hier mit ihrem einzigartigen Humor und Dialekt. Im Oktober vergangenen Jahres gewann das quirlige Energiebündel den NightWash Talent Award. Quelle & Bild: Kulturzentrum dasHausEintrittVVK: 28€ (zzgl. Gebühren) / VVK ermäßigt: 23€ (zzgl. Gebühren) / AK: 35€ / AK ermäßigt: 29€  ZU DEN TICKETS 
SUMMARY:Schlongonges. Themaverfehlung!
ORGANIZER:ludwigshafen-wow
URL;VALUE=URI:https://ludwigshafen-wow.de/schlongonges-themaverfehlung/
TRANSP:OPAQUE
BEGIN:VALARM
ACTION:DISPLAY
TRIGGER;TZID=Europe/Berlin:20260513T190000
DESCRIPTION:Reminder for Schlongonges. Themaverfehlung!
END:VALARM
END:VEVENT
END:VCALENDAR
