BEGIN:VCALENDAR
VERSION:2.0
PRODID:-//Ludwigshafen WOW //NONSGML Events //EN
CALSCALE:GREGORIAN
X-WR-CALNAME:Ludwigshafen WOW
BEGIN:VTIMEZONE
TZID:Europe/Berlin
TZURL:http://tzurl.org/zoneinfo-outlook/Europe/Berlin
X-LIC-LOCATION:Europe/Berlin
BEGIN:STANDARD
TZOFFSETFROM:+0200
TZOFFSETTO:+0100
TZNAME:CET
DTSTART:19701025T030000
RRULE:FREQ=YEARLY;BYMONTH=10;BYDAY=-1SU
END:STANDARD
BEGIN:DAYLIGHT
TZOFFSETFROM:+0100
TZOFFSETTO:+0200
TZNAME:CEST
DTSTART:19700329T020000
RRULE:FREQ=YEARLY;BYMONTH=3;BYDAY=-1SU
END:DAYLIGHT
END:VTIMEZONE
BEGIN:VEVENT
TZID:Europe/Berlin
CREATED:20260425T200007
UID:57952
DTSTART;TZID=Europe/Berlin:20260425T200000
DTEND;TZID=Europe/Berlin:20260425T210000
DTSTAMP:20260423T101038
LOCATION:Kulturzentrum dasHausBahnhofstraße 30\, 67059 Ludwigshafen am Rhein
DESCRIPTION:Präsentiert von Shayma Al Queer, Davina Lover & The Notorious B.D.E.Macht euch bereit, Drag kommt endlich nach Ludwigshafen!Klebt eure Wigs fest und schnallt eure Korsetts enger, denn der DRAG DOME öffnet zum ersten Mal die Pforten. Ein Format, das sich nicht erklären lässt. Aber eines ist sicher: jede Menge Drag, Glanz, Glamour und noch mehr Glitzer.Freut euch auf einen Abend mit den Drag Enfants Terribles des Rhein-Neckar-Deltas und  Special Guests. Wir bringen die Performance – ihr bringt die Energie. Quelle & Bild: Kulturzentrum dasHausFolgt Drag Dome auf Instagram für Updates: DragdomeDer Drag Dome ist ein queerer Safer Space.Respektiert den Space, feiert die Kunst – wir sehen uns im Dome!Eine Veranstaltung des Fördevereins dasHaus e.V.EintrittVVK: 5 € / Solidarity Ticket: 15 €  ZU DEN TICKETS 
SUMMARY:DRAG DOME
ORGANIZER:ludwigshafen-wow
URL;VALUE=URI:https://ludwigshafen-wow.de/drag-dome-2/
TRANSP:OPAQUE
BEGIN:VALARM
ACTION:DISPLAY
TRIGGER;TZID=Europe/Berlin:20260425T190000
DESCRIPTION:Reminder for DRAG DOME
END:VALARM
END:VEVENT
END:VCALENDAR
