BEGIN:VCALENDAR
VERSION:2.0
PRODID:-//Ludwigshafen WOW //NONSGML Events //EN
CALSCALE:GREGORIAN
X-WR-CALNAME:Ludwigshafen WOW
BEGIN:VTIMEZONE
TZID:Europe/Berlin
TZURL:http://tzurl.org/zoneinfo-outlook/Europe/Berlin
X-LIC-LOCATION:Europe/Berlin
BEGIN:STANDARD
TZOFFSETFROM:+0200
TZOFFSETTO:+0100
TZNAME:CET
DTSTART:19701025T030000
RRULE:FREQ=YEARLY;BYMONTH=10;BYDAY=-1SU
END:STANDARD
BEGIN:DAYLIGHT
TZOFFSETFROM:+0100
TZOFFSETTO:+0200
TZNAME:CEST
DTSTART:19700329T020000
RRULE:FREQ=YEARLY;BYMONTH=3;BYDAY=-1SU
END:DAYLIGHT
END:VTIMEZONE
BEGIN:VEVENT
TZID:Europe/Berlin
CREATED:20260424T091033
UID:58039
DTSTART;TZID=Europe/Berlin:20260424T150000
DTEND;TZID=Europe/Berlin:20260424T160000
DTSTAMP:20260424T123912
LOCATION:Volkshochschule LudwigshafenBürgerhof\, 67059 Ludwigshafen
DESCRIPTION:Der Bereich Fremdsprachen bietet eine besondere, kostenlose Veranstaltung im Rahmen des 125jährigen Jubiläums an. Im Mittelpunkt steht der italienische Film-Klassiker Pane e Tulipani.Pane e Tulipani (Brot und Tulpen) ist eine Komödie, aber auch eine poetische Erzählung des Regisseurs Silvio Soldini mit Bruno Ganz in einer der Hauptrollen. Die Geschichte entsteht, weil etwas Unerwartetes passiert: Eine Frau verpasst ihren Bus an einer Tankstelle, zunächst unbemerkt von ihrer Familie. Dies führt sie spontan auf eine Reise durch Venedig – eine der malerischsten Städte der Welt – und sie lernt dort verschiedene Menschen kennen. Die Trennung von ihrer Familie wirft auch viele Fragen auf: Wie könnte mein Leben anders verlaufen sein, wenn...?Wir sehen zentrale Filmsequenzen. Die Gespräche führen wir auf Italienisch oder Deutsch. Dazu gibt es interessante Sprachübungen, die auf jedes Niveau angepasst sind, sowie das Erlernen von Redewendungen, Sprichwörtern und typischen italienischen "Klischees“. Natürlich darf ein echter italienischer Espresso mit ein paar dolce nicht fehlen.ReferentinDr. Maria BastaEintrittfreiWeitere InfosDie Veranstaltung findet im Raum 107 der VHS Ludwigshafen statt  
SUMMARY:Italienisch für alle, die die Sprache mögen
ORGANIZER:ludwigshafen-wow
URL;VALUE=URI:https://ludwigshafen-wow.de/italienisch-fuer-alle-die-die-sprache-moegen/
TRANSP:OPAQUE
BEGIN:VALARM
ACTION:DISPLAY
TRIGGER;TZID=Europe/Berlin:20260424T140000
DESCRIPTION:Reminder for Italienisch für alle\, die die Sprache mögen
END:VALARM
END:VEVENT
END:VCALENDAR
