BEGIN:VCALENDAR
VERSION:2.0
PRODID:-//Ludwigshafen WOW //NONSGML Events //EN
CALSCALE:GREGORIAN
X-WR-CALNAME:Ludwigshafen WOW
BEGIN:VTIMEZONE
TZID:Europe/Berlin
TZURL:http://tzurl.org/zoneinfo-outlook/Europe/Berlin
X-LIC-LOCATION:Europe/Berlin
BEGIN:STANDARD
TZOFFSETFROM:+0200
TZOFFSETTO:+0100
TZNAME:CET
DTSTART:19701025T030000
RRULE:FREQ=YEARLY;BYMONTH=10;BYDAY=-1SU
END:STANDARD
BEGIN:DAYLIGHT
TZOFFSETFROM:+0100
TZOFFSETTO:+0200
TZNAME:CEST
DTSTART:19700329T020000
RRULE:FREQ=YEARLY;BYMONTH=3;BYDAY=-1SU
END:DAYLIGHT
END:VTIMEZONE
BEGIN:VEVENT
TZID:Europe/Berlin
CREATED:20260804T121853
UID:58151
DTSTART;TZID=Europe/Berlin:20260804T160000
DTEND;TZID=Europe/Berlin:20260804T170000
DTSTAMP:20260425T161008
LOCATION:
DESCRIPTION:Im Wildpark gibt viel zu entdecken: Neben der Ruhe, die der Auwald bietet, der vor allem im Sommer zu einem Spaziergang im Schatten der Bäume einlädt, trifft man auch viele tierische Bewohner.Ziegen, Daomey-Zwergrinder und Ouessantschafe begeistern im vorderen Bereich des Parks. Wisente, Auerochsen und Tarpane wirken im hinteren Teil des Parks wie aus einer anderen Zeit. Ein besonderes Erlebnis ergibt sich, wenn man auf die freilaufenden Sika- und Damhirsche sowie das Muffelwild trifft.Am Ende der Tour wird gemeinsam entdeckt, wie schwer ein Hirschgeweih ist und wie sich die Borsten von Wildschweinen anfühlen.LeitungJulia Nessel, Abteilungsleitung Bäume, Spielplätze & Wildpark (WBL)PreisEintritt des Wildparks, zu sehen auf der Webseite des WBL - Wildpark RheingönheimTreffpunktWird bei Anmeldung bekanntgegeben  ZUR ANMELDUNG  Wir sind der Meinung, dass Ludwigshafens Kulturszene, institutionell wie auch frei, mehr Aufmerksamkeit verdient. Deswegen füllen wir regelmäßig per Hand und mit Liebe unseren Online-Veranstaltungskalender für alles rund um Kunst und Kultur in Ludwigshafen.Weil wir aber nicht nur die Kultur, sondern auch die Stadt an sich sehr spannend finden, möchten wir dich einladen, sie gemeinsam mit uns (neu) zu entdecken.Mit den WOW CITY TOURS bündeln wir deshalb verschiedenste Stadtführungen, die unterschiedliche Aspekte unserer Stadt am Rhein beleuchten. Entdecke mit uns neue Details, die dir nie aufgefallen sind – schau hinter meterdicke Wände, betrete Orte, die normalerweise nicht öffentlich zugänglich sind, fahr mit dem Cabrio-Bus auf Urban Art Tour oder mit der historischen Straßenbahn quer durch die Stadt. Ludwigshafen wartet auf dich!Hier geht's zu den restlichen WOW CITY TOURS   
SUMMARY:Wildpark Rheingönheim. Ein tierisches Erlebnis
ORGANIZER:ludwigshafen-wow
URL;VALUE=URI:https://ludwigshafen-wow.de/wildpark-rheingoenheim-ein-tierisches-erlebnis/
TRANSP:OPAQUE
BEGIN:VALARM
ACTION:DISPLAY
TRIGGER;TZID=Europe/Berlin:20260804T150000
DESCRIPTION:Reminder for Wildpark Rheingönheim. Ein tierisches Erlebnis
END:VALARM
END:VEVENT
END:VCALENDAR
